BEGIN:VCALENDAR
VERSION:2.0
PRODID:-//Roller Magic//EN
CALSCALE:GREGORIAN
METHOD:PUBLISH
BEGIN:VEVENT
UID:77de47fc-be0c-458a-a49c-89f29a48adff@rollermagic.com
DTSTAMP:20260422T070609Z
DTSTART:20260514T145000Z
DTEND:20260514T175000Z
SUMMARY:Venice Beach Roll Out
DESCRIPTION:Casual community skate from Santa Monica Pier to Venice boardwalk. All levels welcome. Meet at the pier entrance.
LOCATION:Los Angeles\, usa
URL:https://rollermagic.com/events/venice-beach-roll-out
END:VEVENT
END:VCALENDAR